BEGIN:VCALENDAR
VERSION:2.0
PRODID:-//DEAF FOREVER - ECPv6.15.20//NONSGML v1.0//EN
CALSCALE:GREGORIAN
METHOD:PUBLISH
X-WR-CALNAME:DEAF FOREVER
X-ORIGINAL-URL:https://www.deaf-forever.de
X-WR-CALDESC:Veranstaltungen für DEAF FOREVER
REFRESH-INTERVAL;VALUE=DURATION:PT1H
X-Robots-Tag:noindex
X-PUBLISHED-TTL:PT1H
BEGIN:VTIMEZONE
TZID:Europe/Helsinki
BEGIN:DAYLIGHT
TZOFFSETFROM:+0200
TZOFFSETTO:+0300
TZNAME:EEST
DTSTART:20250330T010000
END:DAYLIGHT
BEGIN:STANDARD
TZOFFSETFROM:+0300
TZOFFSETTO:+0200
TZNAME:EET
DTSTART:20251026T010000
END:STANDARD
BEGIN:DAYLIGHT
TZOFFSETFROM:+0200
TZOFFSETTO:+0300
TZNAME:EEST
DTSTART:20260329T010000
END:DAYLIGHT
BEGIN:STANDARD
TZOFFSETFROM:+0300
TZOFFSETTO:+0200
TZNAME:EET
DTSTART:20261025T010000
END:STANDARD
BEGIN:DAYLIGHT
TZOFFSETFROM:+0200
TZOFFSETTO:+0300
TZNAME:EEST
DTSTART:20270328T010000
END:DAYLIGHT
BEGIN:STANDARD
TZOFFSETFROM:+0300
TZOFFSETTO:+0200
TZNAME:EET
DTSTART:20271031T010000
END:STANDARD
END:VTIMEZONE
BEGIN:VEVENT
DTSTART;TZID=Europe/Helsinki:20260419T200000
DTEND;TZID=Europe/Helsinki:20260419T235900
DTSTAMP:20260420T024741
CREATED:20260127T103932Z
LAST-MODIFIED:20260127T103932Z
UID:21718-1776628800-1776643140@www.deaf-forever.de
SUMMARY:ABBATH\, HYPOCRISY\, VREID\, VOMITORY
DESCRIPTION:
URL:https://www.deaf-forever.de/concert/abbath-hypocrisy-vreid-vomitory-2/
LOCATION:Z7\, Pratteln\, Schweiz
END:VEVENT
BEGIN:VEVENT
DTSTART;TZID=Europe/Helsinki:20260419T200000
DTEND;TZID=Europe/Helsinki:20260419T235900
DTSTAMP:20260420T024741
CREATED:20260128T130635Z
LAST-MODIFIED:20260128T130635Z
UID:21748-1776628800-1776643140@www.deaf-forever.de
SUMMARY:EXHUMED\, GRUESOME
DESCRIPTION:
URL:https://www.deaf-forever.de/concert/exhumed-gruesome-4/
LOCATION:Escape\, Wien\, Österreich
END:VEVENT
BEGIN:VEVENT
DTSTART;TZID=Europe/Helsinki:20260419T200000
DTEND;TZID=Europe/Helsinki:20260419T235900
DTSTAMP:20260420T024741
CREATED:20260201T094619Z
LAST-MODIFIED:20260201T094619Z
UID:21794-1776628800-1776643140@www.deaf-forever.de
SUMMARY:WYTCH HAZEL\, PHANTOM SPELL
DESCRIPTION:
URL:https://www.deaf-forever.de/concert/wytch-hazel-phantom-spell-5/
LOCATION:Hühnermanhattan\, Halle\, Deutschland
END:VEVENT
BEGIN:VEVENT
DTSTART;TZID=Europe/Helsinki:20260419T200000
DTEND;TZID=Europe/Helsinki:20260419T235900
DTSTAMP:20260420T024741
CREATED:20260324T100621Z
LAST-MODIFIED:20260324T100621Z
UID:21992-1776628800-1776643140@www.deaf-forever.de
SUMMARY:MASTERPLAN
DESCRIPTION:
URL:https://www.deaf-forever.de/concert/masterplan-2/
LOCATION:Spectrum Augsburg\, Augsburg\, Deutschland
END:VEVENT
END:VCALENDAR